BEGIN:VCALENDAR
VERSION:2.0
PRODID:-//Boomtown Brewery - ECPv6.15.7//NONSGML v1.0//EN
CALSCALE:GREGORIAN
METHOD:PUBLISH
X-WR-CALNAME:Boomtown Brewery
X-ORIGINAL-URL:https://www.boomtownbrew.com
X-WR-CALDESC:Events for Boomtown Brewery
REFRESH-INTERVAL;VALUE=DURATION:PT1H
X-Robots-Tag:noindex
X-PUBLISHED-TTL:PT1H
BEGIN:VTIMEZONE
TZID:America/Los_Angeles
BEGIN:DAYLIGHT
TZOFFSETFROM:-0800
TZOFFSETTO:-0700
TZNAME:PDT
DTSTART:20250309T100000
END:DAYLIGHT
BEGIN:STANDARD
TZOFFSETFROM:-0700
TZOFFSETTO:-0800
TZNAME:PST
DTSTART:20251102T090000
END:STANDARD
BEGIN:DAYLIGHT
TZOFFSETFROM:-0800
TZOFFSETTO:-0700
TZNAME:PDT
DTSTART:20260308T100000
END:DAYLIGHT
BEGIN:STANDARD
TZOFFSETFROM:-0700
TZOFFSETTO:-0800
TZNAME:PST
DTSTART:20261101T090000
END:STANDARD
BEGIN:DAYLIGHT
TZOFFSETFROM:-0800
TZOFFSETTO:-0700
TZNAME:PDT
DTSTART:20270314T100000
END:DAYLIGHT
BEGIN:STANDARD
TZOFFSETFROM:-0700
TZOFFSETTO:-0800
TZNAME:PST
DTSTART:20271107T090000
END:STANDARD
END:VTIMEZONE
BEGIN:VEVENT
DTSTART;TZID=America/Los_Angeles:20260420T183000
DTEND;TZID=America/Los_Angeles:20260420T210000
DTSTAMP:20260420T012643
CREATED:20260114T185158Z
LAST-MODIFIED:20260114T185158Z
UID:25534-1776709800-1776718800@www.boomtownbrew.com
SUMMARY:Monday Open Mic Night
DESCRIPTION:BoomMic Comedy hosts our weekly Open Mic Night Mondays! Free and open to all (21+)\, sign ups begin for 5 minutes on the mic starting at 6:30pm\, with the show starting at 7pm. Hilarious up and coming comics will make you laugh your suds off as you enjoy discounted beers during the event.
URL:https://www.boomtownbrew.com/event/monday-open-mic-night/2026-04-20/
LOCATION:Boomtown Brewery\, 700 Jackson St\, Los Angeles\, CA\, 90012\, United States
CATEGORIES:Weekly Events
ATTACH;FMTTYPE=image/jpeg:https://www.boomtownbrew.com/wp-content/uploads/2026/01/BTB_OpenMicBanner_1.jpg
END:VEVENT
BEGIN:VEVENT
DTSTART;TZID=America/Los_Angeles:20260427T183000
DTEND;TZID=America/Los_Angeles:20260427T210000
DTSTAMP:20260420T012643
CREATED:20260114T185158Z
LAST-MODIFIED:20260114T185158Z
UID:25535-1777314600-1777323600@www.boomtownbrew.com
SUMMARY:Monday Open Mic Night
DESCRIPTION:BoomMic Comedy hosts our weekly Open Mic Night Mondays! Free and open to all (21+)\, sign ups begin for 5 minutes on the mic starting at 6:30pm\, with the show starting at 7pm. Hilarious up and coming comics will make you laugh your suds off as you enjoy discounted beers during the event.
URL:https://www.boomtownbrew.com/event/monday-open-mic-night/2026-04-27/
LOCATION:Boomtown Brewery\, 700 Jackson St\, Los Angeles\, CA\, 90012\, United States
CATEGORIES:Weekly Events
ATTACH;FMTTYPE=image/jpeg:https://www.boomtownbrew.com/wp-content/uploads/2026/01/BTB_OpenMicBanner_1.jpg
END:VEVENT
BEGIN:VEVENT
DTSTART;TZID=America/Los_Angeles:20260504T183000
DTEND;TZID=America/Los_Angeles:20260504T210000
DTSTAMP:20260420T012643
CREATED:20260114T185158Z
LAST-MODIFIED:20260114T185158Z
UID:25536-1777919400-1777928400@www.boomtownbrew.com
SUMMARY:Monday Open Mic Night
DESCRIPTION:BoomMic Comedy hosts our weekly Open Mic Night Mondays! Free and open to all (21+)\, sign ups begin for 5 minutes on the mic starting at 6:30pm\, with the show starting at 7pm. Hilarious up and coming comics will make you laugh your suds off as you enjoy discounted beers during the event.
URL:https://www.boomtownbrew.com/event/monday-open-mic-night/2026-05-04/
LOCATION:Boomtown Brewery\, 700 Jackson St\, Los Angeles\, CA\, 90012\, United States
CATEGORIES:Weekly Events
ATTACH;FMTTYPE=image/jpeg:https://www.boomtownbrew.com/wp-content/uploads/2026/01/BTB_OpenMicBanner_1.jpg
END:VEVENT
BEGIN:VEVENT
DTSTART;TZID=America/Los_Angeles:20260511T183000
DTEND;TZID=America/Los_Angeles:20260511T210000
DTSTAMP:20260420T012643
CREATED:20260114T185158Z
LAST-MODIFIED:20260114T185158Z
UID:25537-1778524200-1778533200@www.boomtownbrew.com
SUMMARY:Monday Open Mic Night
DESCRIPTION:BoomMic Comedy hosts our weekly Open Mic Night Mondays! Free and open to all (21+)\, sign ups begin for 5 minutes on the mic starting at 6:30pm\, with the show starting at 7pm. Hilarious up and coming comics will make you laugh your suds off as you enjoy discounted beers during the event.
URL:https://www.boomtownbrew.com/event/monday-open-mic-night/2026-05-11/
LOCATION:Boomtown Brewery\, 700 Jackson St\, Los Angeles\, CA\, 90012\, United States
CATEGORIES:Weekly Events
ATTACH;FMTTYPE=image/jpeg:https://www.boomtownbrew.com/wp-content/uploads/2026/01/BTB_OpenMicBanner_1.jpg
END:VEVENT
BEGIN:VEVENT
DTSTART;TZID=America/Los_Angeles:20260518T183000
DTEND;TZID=America/Los_Angeles:20260518T210000
DTSTAMP:20260420T012643
CREATED:20260114T185158Z
LAST-MODIFIED:20260114T185158Z
UID:25538-1779129000-1779138000@www.boomtownbrew.com
SUMMARY:Monday Open Mic Night
DESCRIPTION:BoomMic Comedy hosts our weekly Open Mic Night Mondays! Free and open to all (21+)\, sign ups begin for 5 minutes on the mic starting at 6:30pm\, with the show starting at 7pm. Hilarious up and coming comics will make you laugh your suds off as you enjoy discounted beers during the event.
URL:https://www.boomtownbrew.com/event/monday-open-mic-night/2026-05-18/
LOCATION:Boomtown Brewery\, 700 Jackson St\, Los Angeles\, CA\, 90012\, United States
CATEGORIES:Weekly Events
ATTACH;FMTTYPE=image/jpeg:https://www.boomtownbrew.com/wp-content/uploads/2026/01/BTB_OpenMicBanner_1.jpg
END:VEVENT
BEGIN:VEVENT
DTSTART;TZID=America/Los_Angeles:20260525T183000
DTEND;TZID=America/Los_Angeles:20260525T210000
DTSTAMP:20260420T012643
CREATED:20260114T185158Z
LAST-MODIFIED:20260114T185158Z
UID:25539-1779733800-1779742800@www.boomtownbrew.com
SUMMARY:Monday Open Mic Night
DESCRIPTION:BoomMic Comedy hosts our weekly Open Mic Night Mondays! Free and open to all (21+)\, sign ups begin for 5 minutes on the mic starting at 6:30pm\, with the show starting at 7pm. Hilarious up and coming comics will make you laugh your suds off as you enjoy discounted beers during the event.
URL:https://www.boomtownbrew.com/event/monday-open-mic-night/2026-05-25/
LOCATION:Boomtown Brewery\, 700 Jackson St\, Los Angeles\, CA\, 90012\, United States
CATEGORIES:Weekly Events
ATTACH;FMTTYPE=image/jpeg:https://www.boomtownbrew.com/wp-content/uploads/2026/01/BTB_OpenMicBanner_1.jpg
END:VEVENT
BEGIN:VEVENT
DTSTART;TZID=America/Los_Angeles:20260601T183000
DTEND;TZID=America/Los_Angeles:20260601T210000
DTSTAMP:20260420T012643
CREATED:20260114T185158Z
LAST-MODIFIED:20260114T185158Z
UID:25540-1780338600-1780347600@www.boomtownbrew.com
SUMMARY:Monday Open Mic Night
DESCRIPTION:BoomMic Comedy hosts our weekly Open Mic Night Mondays! Free and open to all (21+)\, sign ups begin for 5 minutes on the mic starting at 6:30pm\, with the show starting at 7pm. Hilarious up and coming comics will make you laugh your suds off as you enjoy discounted beers during the event.
URL:https://www.boomtownbrew.com/event/monday-open-mic-night/2026-06-01/
LOCATION:Boomtown Brewery\, 700 Jackson St\, Los Angeles\, CA\, 90012\, United States
CATEGORIES:Weekly Events
ATTACH;FMTTYPE=image/jpeg:https://www.boomtownbrew.com/wp-content/uploads/2026/01/BTB_OpenMicBanner_1.jpg
END:VEVENT
BEGIN:VEVENT
DTSTART;TZID=America/Los_Angeles:20260608T183000
DTEND;TZID=America/Los_Angeles:20260608T210000
DTSTAMP:20260420T012643
CREATED:20260114T185158Z
LAST-MODIFIED:20260114T185158Z
UID:25541-1780943400-1780952400@www.boomtownbrew.com
SUMMARY:Monday Open Mic Night
DESCRIPTION:BoomMic Comedy hosts our weekly Open Mic Night Mondays! Free and open to all (21+)\, sign ups begin for 5 minutes on the mic starting at 6:30pm\, with the show starting at 7pm. Hilarious up and coming comics will make you laugh your suds off as you enjoy discounted beers during the event.
URL:https://www.boomtownbrew.com/event/monday-open-mic-night/2026-06-08/
LOCATION:Boomtown Brewery\, 700 Jackson St\, Los Angeles\, CA\, 90012\, United States
CATEGORIES:Weekly Events
ATTACH;FMTTYPE=image/jpeg:https://www.boomtownbrew.com/wp-content/uploads/2026/01/BTB_OpenMicBanner_1.jpg
END:VEVENT
BEGIN:VEVENT
DTSTART;TZID=America/Los_Angeles:20260615T183000
DTEND;TZID=America/Los_Angeles:20260615T210000
DTSTAMP:20260420T012643
CREATED:20260114T185158Z
LAST-MODIFIED:20260114T185158Z
UID:25542-1781548200-1781557200@www.boomtownbrew.com
SUMMARY:Monday Open Mic Night
DESCRIPTION:BoomMic Comedy hosts our weekly Open Mic Night Mondays! Free and open to all (21+)\, sign ups begin for 5 minutes on the mic starting at 6:30pm\, with the show starting at 7pm. Hilarious up and coming comics will make you laugh your suds off as you enjoy discounted beers during the event.
URL:https://www.boomtownbrew.com/event/monday-open-mic-night/2026-06-15/
LOCATION:Boomtown Brewery\, 700 Jackson St\, Los Angeles\, CA\, 90012\, United States
CATEGORIES:Weekly Events
ATTACH;FMTTYPE=image/jpeg:https://www.boomtownbrew.com/wp-content/uploads/2026/01/BTB_OpenMicBanner_1.jpg
END:VEVENT
BEGIN:VEVENT
DTSTART;TZID=America/Los_Angeles:20260622T183000
DTEND;TZID=America/Los_Angeles:20260622T210000
DTSTAMP:20260420T012643
CREATED:20260114T185158Z
LAST-MODIFIED:20260114T185158Z
UID:25543-1782153000-1782162000@www.boomtownbrew.com
SUMMARY:Monday Open Mic Night
DESCRIPTION:BoomMic Comedy hosts our weekly Open Mic Night Mondays! Free and open to all (21+)\, sign ups begin for 5 minutes on the mic starting at 6:30pm\, with the show starting at 7pm. Hilarious up and coming comics will make you laugh your suds off as you enjoy discounted beers during the event.
URL:https://www.boomtownbrew.com/event/monday-open-mic-night/2026-06-22/
LOCATION:Boomtown Brewery\, 700 Jackson St\, Los Angeles\, CA\, 90012\, United States
CATEGORIES:Weekly Events
ATTACH;FMTTYPE=image/jpeg:https://www.boomtownbrew.com/wp-content/uploads/2026/01/BTB_OpenMicBanner_1.jpg
END:VEVENT
BEGIN:VEVENT
DTSTART;TZID=America/Los_Angeles:20260629T183000
DTEND;TZID=America/Los_Angeles:20260629T210000
DTSTAMP:20260420T012643
CREATED:20260114T185158Z
LAST-MODIFIED:20260114T185158Z
UID:25544-1782757800-1782766800@www.boomtownbrew.com
SUMMARY:Monday Open Mic Night
DESCRIPTION:BoomMic Comedy hosts our weekly Open Mic Night Mondays! Free and open to all (21+)\, sign ups begin for 5 minutes on the mic starting at 6:30pm\, with the show starting at 7pm. Hilarious up and coming comics will make you laugh your suds off as you enjoy discounted beers during the event.
URL:https://www.boomtownbrew.com/event/monday-open-mic-night/2026-06-29/
LOCATION:Boomtown Brewery\, 700 Jackson St\, Los Angeles\, CA\, 90012\, United States
CATEGORIES:Weekly Events
ATTACH;FMTTYPE=image/jpeg:https://www.boomtownbrew.com/wp-content/uploads/2026/01/BTB_OpenMicBanner_1.jpg
END:VEVENT
BEGIN:VEVENT
DTSTART;TZID=America/Los_Angeles:20260706T183000
DTEND;TZID=America/Los_Angeles:20260706T210000
DTSTAMP:20260420T012643
CREATED:20260114T185158Z
LAST-MODIFIED:20260114T185158Z
UID:25545-1783362600-1783371600@www.boomtownbrew.com
SUMMARY:Monday Open Mic Night
DESCRIPTION:BoomMic Comedy hosts our weekly Open Mic Night Mondays! Free and open to all (21+)\, sign ups begin for 5 minutes on the mic starting at 6:30pm\, with the show starting at 7pm. Hilarious up and coming comics will make you laugh your suds off as you enjoy discounted beers during the event.
URL:https://www.boomtownbrew.com/event/monday-open-mic-night/2026-07-06/
LOCATION:Boomtown Brewery\, 700 Jackson St\, Los Angeles\, CA\, 90012\, United States
CATEGORIES:Weekly Events
ATTACH;FMTTYPE=image/jpeg:https://www.boomtownbrew.com/wp-content/uploads/2026/01/BTB_OpenMicBanner_1.jpg
END:VEVENT
BEGIN:VEVENT
DTSTART;TZID=America/Los_Angeles:20260713T183000
DTEND;TZID=America/Los_Angeles:20260713T210000
DTSTAMP:20260420T012643
CREATED:20260114T185158Z
LAST-MODIFIED:20260114T185158Z
UID:25546-1783967400-1783976400@www.boomtownbrew.com
SUMMARY:Monday Open Mic Night
DESCRIPTION:BoomMic Comedy hosts our weekly Open Mic Night Mondays! Free and open to all (21+)\, sign ups begin for 5 minutes on the mic starting at 6:30pm\, with the show starting at 7pm. Hilarious up and coming comics will make you laugh your suds off as you enjoy discounted beers during the event.
URL:https://www.boomtownbrew.com/event/monday-open-mic-night/2026-07-13/
LOCATION:Boomtown Brewery\, 700 Jackson St\, Los Angeles\, CA\, 90012\, United States
CATEGORIES:Weekly Events
ATTACH;FMTTYPE=image/jpeg:https://www.boomtownbrew.com/wp-content/uploads/2026/01/BTB_OpenMicBanner_1.jpg
END:VEVENT
BEGIN:VEVENT
DTSTART;TZID=America/Los_Angeles:20260720T183000
DTEND;TZID=America/Los_Angeles:20260720T210000
DTSTAMP:20260420T012643
CREATED:20260114T185158Z
LAST-MODIFIED:20260114T185158Z
UID:25547-1784572200-1784581200@www.boomtownbrew.com
SUMMARY:Monday Open Mic Night
DESCRIPTION:BoomMic Comedy hosts our weekly Open Mic Night Mondays! Free and open to all (21+)\, sign ups begin for 5 minutes on the mic starting at 6:30pm\, with the show starting at 7pm. Hilarious up and coming comics will make you laugh your suds off as you enjoy discounted beers during the event.
URL:https://www.boomtownbrew.com/event/monday-open-mic-night/2026-07-20/
LOCATION:Boomtown Brewery\, 700 Jackson St\, Los Angeles\, CA\, 90012\, United States
CATEGORIES:Weekly Events
ATTACH;FMTTYPE=image/jpeg:https://www.boomtownbrew.com/wp-content/uploads/2026/01/BTB_OpenMicBanner_1.jpg
END:VEVENT
BEGIN:VEVENT
DTSTART;TZID=America/Los_Angeles:20260727T183000
DTEND;TZID=America/Los_Angeles:20260727T210000
DTSTAMP:20260420T012643
CREATED:20260114T185158Z
LAST-MODIFIED:20260114T185158Z
UID:25548-1785177000-1785186000@www.boomtownbrew.com
SUMMARY:Monday Open Mic Night
DESCRIPTION:BoomMic Comedy hosts our weekly Open Mic Night Mondays! Free and open to all (21+)\, sign ups begin for 5 minutes on the mic starting at 6:30pm\, with the show starting at 7pm. Hilarious up and coming comics will make you laugh your suds off as you enjoy discounted beers during the event.
URL:https://www.boomtownbrew.com/event/monday-open-mic-night/2026-07-27/
LOCATION:Boomtown Brewery\, 700 Jackson St\, Los Angeles\, CA\, 90012\, United States
CATEGORIES:Weekly Events
ATTACH;FMTTYPE=image/jpeg:https://www.boomtownbrew.com/wp-content/uploads/2026/01/BTB_OpenMicBanner_1.jpg
END:VEVENT
BEGIN:VEVENT
DTSTART;TZID=America/Los_Angeles:20260803T183000
DTEND;TZID=America/Los_Angeles:20260803T210000
DTSTAMP:20260420T012643
CREATED:20260114T185158Z
LAST-MODIFIED:20260114T185158Z
UID:25549-1785781800-1785790800@www.boomtownbrew.com
SUMMARY:Monday Open Mic Night
DESCRIPTION:BoomMic Comedy hosts our weekly Open Mic Night Mondays! Free and open to all (21+)\, sign ups begin for 5 minutes on the mic starting at 6:30pm\, with the show starting at 7pm. Hilarious up and coming comics will make you laugh your suds off as you enjoy discounted beers during the event.
URL:https://www.boomtownbrew.com/event/monday-open-mic-night/2026-08-03/
LOCATION:Boomtown Brewery\, 700 Jackson St\, Los Angeles\, CA\, 90012\, United States
CATEGORIES:Weekly Events
ATTACH;FMTTYPE=image/jpeg:https://www.boomtownbrew.com/wp-content/uploads/2026/01/BTB_OpenMicBanner_1.jpg
END:VEVENT
BEGIN:VEVENT
DTSTART;TZID=America/Los_Angeles:20260810T183000
DTEND;TZID=America/Los_Angeles:20260810T210000
DTSTAMP:20260420T012643
CREATED:20260114T185158Z
LAST-MODIFIED:20260114T185158Z
UID:25550-1786386600-1786395600@www.boomtownbrew.com
SUMMARY:Monday Open Mic Night
DESCRIPTION:BoomMic Comedy hosts our weekly Open Mic Night Mondays! Free and open to all (21+)\, sign ups begin for 5 minutes on the mic starting at 6:30pm\, with the show starting at 7pm. Hilarious up and coming comics will make you laugh your suds off as you enjoy discounted beers during the event.
URL:https://www.boomtownbrew.com/event/monday-open-mic-night/2026-08-10/
LOCATION:Boomtown Brewery\, 700 Jackson St\, Los Angeles\, CA\, 90012\, United States
CATEGORIES:Weekly Events
ATTACH;FMTTYPE=image/jpeg:https://www.boomtownbrew.com/wp-content/uploads/2026/01/BTB_OpenMicBanner_1.jpg
END:VEVENT
BEGIN:VEVENT
DTSTART;TZID=America/Los_Angeles:20260817T183000
DTEND;TZID=America/Los_Angeles:20260817T210000
DTSTAMP:20260420T012643
CREATED:20260114T185158Z
LAST-MODIFIED:20260114T185158Z
UID:25551-1786991400-1787000400@www.boomtownbrew.com
SUMMARY:Monday Open Mic Night
DESCRIPTION:BoomMic Comedy hosts our weekly Open Mic Night Mondays! Free and open to all (21+)\, sign ups begin for 5 minutes on the mic starting at 6:30pm\, with the show starting at 7pm. Hilarious up and coming comics will make you laugh your suds off as you enjoy discounted beers during the event.
URL:https://www.boomtownbrew.com/event/monday-open-mic-night/2026-08-17/
LOCATION:Boomtown Brewery\, 700 Jackson St\, Los Angeles\, CA\, 90012\, United States
CATEGORIES:Weekly Events
ATTACH;FMTTYPE=image/jpeg:https://www.boomtownbrew.com/wp-content/uploads/2026/01/BTB_OpenMicBanner_1.jpg
END:VEVENT
BEGIN:VEVENT
DTSTART;TZID=America/Los_Angeles:20260824T183000
DTEND;TZID=America/Los_Angeles:20260824T210000
DTSTAMP:20260420T012643
CREATED:20260114T185158Z
LAST-MODIFIED:20260114T185158Z
UID:25552-1787596200-1787605200@www.boomtownbrew.com
SUMMARY:Monday Open Mic Night
DESCRIPTION:BoomMic Comedy hosts our weekly Open Mic Night Mondays! Free and open to all (21+)\, sign ups begin for 5 minutes on the mic starting at 6:30pm\, with the show starting at 7pm. Hilarious up and coming comics will make you laugh your suds off as you enjoy discounted beers during the event.
URL:https://www.boomtownbrew.com/event/monday-open-mic-night/2026-08-24/
LOCATION:Boomtown Brewery\, 700 Jackson St\, Los Angeles\, CA\, 90012\, United States
CATEGORIES:Weekly Events
ATTACH;FMTTYPE=image/jpeg:https://www.boomtownbrew.com/wp-content/uploads/2026/01/BTB_OpenMicBanner_1.jpg
END:VEVENT
BEGIN:VEVENT
DTSTART;TZID=America/Los_Angeles:20260831T183000
DTEND;TZID=America/Los_Angeles:20260831T210000
DTSTAMP:20260420T012643
CREATED:20260114T185158Z
LAST-MODIFIED:20260114T185158Z
UID:25553-1788201000-1788210000@www.boomtownbrew.com
SUMMARY:Monday Open Mic Night
DESCRIPTION:BoomMic Comedy hosts our weekly Open Mic Night Mondays! Free and open to all (21+)\, sign ups begin for 5 minutes on the mic starting at 6:30pm\, with the show starting at 7pm. Hilarious up and coming comics will make you laugh your suds off as you enjoy discounted beers during the event.
URL:https://www.boomtownbrew.com/event/monday-open-mic-night/2026-08-31/
LOCATION:Boomtown Brewery\, 700 Jackson St\, Los Angeles\, CA\, 90012\, United States
CATEGORIES:Weekly Events
ATTACH;FMTTYPE=image/jpeg:https://www.boomtownbrew.com/wp-content/uploads/2026/01/BTB_OpenMicBanner_1.jpg
END:VEVENT
BEGIN:VEVENT
DTSTART;TZID=America/Los_Angeles:20260907T183000
DTEND;TZID=America/Los_Angeles:20260907T210000
DTSTAMP:20260420T012643
CREATED:20260114T185158Z
LAST-MODIFIED:20260114T185158Z
UID:25554-1788805800-1788814800@www.boomtownbrew.com
SUMMARY:Monday Open Mic Night
DESCRIPTION:BoomMic Comedy hosts our weekly Open Mic Night Mondays! Free and open to all (21+)\, sign ups begin for 5 minutes on the mic starting at 6:30pm\, with the show starting at 7pm. Hilarious up and coming comics will make you laugh your suds off as you enjoy discounted beers during the event.
URL:https://www.boomtownbrew.com/event/monday-open-mic-night/2026-09-07/
LOCATION:Boomtown Brewery\, 700 Jackson St\, Los Angeles\, CA\, 90012\, United States
CATEGORIES:Weekly Events
ATTACH;FMTTYPE=image/jpeg:https://www.boomtownbrew.com/wp-content/uploads/2026/01/BTB_OpenMicBanner_1.jpg
END:VEVENT
BEGIN:VEVENT
DTSTART;TZID=America/Los_Angeles:20260914T183000
DTEND;TZID=America/Los_Angeles:20260914T210000
DTSTAMP:20260420T012643
CREATED:20260114T185158Z
LAST-MODIFIED:20260114T185158Z
UID:25555-1789410600-1789419600@www.boomtownbrew.com
SUMMARY:Monday Open Mic Night
DESCRIPTION:BoomMic Comedy hosts our weekly Open Mic Night Mondays! Free and open to all (21+)\, sign ups begin for 5 minutes on the mic starting at 6:30pm\, with the show starting at 7pm. Hilarious up and coming comics will make you laugh your suds off as you enjoy discounted beers during the event.
URL:https://www.boomtownbrew.com/event/monday-open-mic-night/2026-09-14/
LOCATION:Boomtown Brewery\, 700 Jackson St\, Los Angeles\, CA\, 90012\, United States
CATEGORIES:Weekly Events
ATTACH;FMTTYPE=image/jpeg:https://www.boomtownbrew.com/wp-content/uploads/2026/01/BTB_OpenMicBanner_1.jpg
END:VEVENT
BEGIN:VEVENT
DTSTART;TZID=America/Los_Angeles:20260921T183000
DTEND;TZID=America/Los_Angeles:20260921T210000
DTSTAMP:20260420T012643
CREATED:20260114T185158Z
LAST-MODIFIED:20260114T185158Z
UID:25556-1790015400-1790024400@www.boomtownbrew.com
SUMMARY:Monday Open Mic Night
DESCRIPTION:BoomMic Comedy hosts our weekly Open Mic Night Mondays! Free and open to all (21+)\, sign ups begin for 5 minutes on the mic starting at 6:30pm\, with the show starting at 7pm. Hilarious up and coming comics will make you laugh your suds off as you enjoy discounted beers during the event.
URL:https://www.boomtownbrew.com/event/monday-open-mic-night/2026-09-21/
LOCATION:Boomtown Brewery\, 700 Jackson St\, Los Angeles\, CA\, 90012\, United States
CATEGORIES:Weekly Events
ATTACH;FMTTYPE=image/jpeg:https://www.boomtownbrew.com/wp-content/uploads/2026/01/BTB_OpenMicBanner_1.jpg
END:VEVENT
BEGIN:VEVENT
DTSTART;TZID=America/Los_Angeles:20260928T183000
DTEND;TZID=America/Los_Angeles:20260928T210000
DTSTAMP:20260420T012643
CREATED:20260114T185158Z
LAST-MODIFIED:20260114T185158Z
UID:25557-1790620200-1790629200@www.boomtownbrew.com
SUMMARY:Monday Open Mic Night
DESCRIPTION:BoomMic Comedy hosts our weekly Open Mic Night Mondays! Free and open to all (21+)\, sign ups begin for 5 minutes on the mic starting at 6:30pm\, with the show starting at 7pm. Hilarious up and coming comics will make you laugh your suds off as you enjoy discounted beers during the event.
URL:https://www.boomtownbrew.com/event/monday-open-mic-night/2026-09-28/
LOCATION:Boomtown Brewery\, 700 Jackson St\, Los Angeles\, CA\, 90012\, United States
CATEGORIES:Weekly Events
ATTACH;FMTTYPE=image/jpeg:https://www.boomtownbrew.com/wp-content/uploads/2026/01/BTB_OpenMicBanner_1.jpg
END:VEVENT
BEGIN:VEVENT
DTSTART;TZID=America/Los_Angeles:20261005T183000
DTEND;TZID=America/Los_Angeles:20261005T210000
DTSTAMP:20260420T012643
CREATED:20260114T185158Z
LAST-MODIFIED:20260114T185158Z
UID:25558-1791225000-1791234000@www.boomtownbrew.com
SUMMARY:Monday Open Mic Night
DESCRIPTION:BoomMic Comedy hosts our weekly Open Mic Night Mondays! Free and open to all (21+)\, sign ups begin for 5 minutes on the mic starting at 6:30pm\, with the show starting at 7pm. Hilarious up and coming comics will make you laugh your suds off as you enjoy discounted beers during the event.
URL:https://www.boomtownbrew.com/event/monday-open-mic-night/2026-10-05/
LOCATION:Boomtown Brewery\, 700 Jackson St\, Los Angeles\, CA\, 90012\, United States
CATEGORIES:Weekly Events
ATTACH;FMTTYPE=image/jpeg:https://www.boomtownbrew.com/wp-content/uploads/2026/01/BTB_OpenMicBanner_1.jpg
END:VEVENT
BEGIN:VEVENT
DTSTART;TZID=America/Los_Angeles:20261012T183000
DTEND;TZID=America/Los_Angeles:20261012T210000
DTSTAMP:20260420T012643
CREATED:20260114T185158Z
LAST-MODIFIED:20260114T185158Z
UID:25559-1791829800-1791838800@www.boomtownbrew.com
SUMMARY:Monday Open Mic Night
DESCRIPTION:BoomMic Comedy hosts our weekly Open Mic Night Mondays! Free and open to all (21+)\, sign ups begin for 5 minutes on the mic starting at 6:30pm\, with the show starting at 7pm. Hilarious up and coming comics will make you laugh your suds off as you enjoy discounted beers during the event.
URL:https://www.boomtownbrew.com/event/monday-open-mic-night/2026-10-12/
LOCATION:Boomtown Brewery\, 700 Jackson St\, Los Angeles\, CA\, 90012\, United States
CATEGORIES:Weekly Events
ATTACH;FMTTYPE=image/jpeg:https://www.boomtownbrew.com/wp-content/uploads/2026/01/BTB_OpenMicBanner_1.jpg
END:VEVENT
BEGIN:VEVENT
DTSTART;TZID=America/Los_Angeles:20261019T183000
DTEND;TZID=America/Los_Angeles:20261019T210000
DTSTAMP:20260420T012643
CREATED:20260114T185158Z
LAST-MODIFIED:20260114T185158Z
UID:25560-1792434600-1792443600@www.boomtownbrew.com
SUMMARY:Monday Open Mic Night
DESCRIPTION:BoomMic Comedy hosts our weekly Open Mic Night Mondays! Free and open to all (21+)\, sign ups begin for 5 minutes on the mic starting at 6:30pm\, with the show starting at 7pm. Hilarious up and coming comics will make you laugh your suds off as you enjoy discounted beers during the event.
URL:https://www.boomtownbrew.com/event/monday-open-mic-night/2026-10-19/
LOCATION:Boomtown Brewery\, 700 Jackson St\, Los Angeles\, CA\, 90012\, United States
CATEGORIES:Weekly Events
ATTACH;FMTTYPE=image/jpeg:https://www.boomtownbrew.com/wp-content/uploads/2026/01/BTB_OpenMicBanner_1.jpg
END:VEVENT
BEGIN:VEVENT
DTSTART;TZID=America/Los_Angeles:20261026T183000
DTEND;TZID=America/Los_Angeles:20261026T210000
DTSTAMP:20260420T012643
CREATED:20260114T185158Z
LAST-MODIFIED:20260114T185158Z
UID:25561-1793039400-1793048400@www.boomtownbrew.com
SUMMARY:Monday Open Mic Night
DESCRIPTION:BoomMic Comedy hosts our weekly Open Mic Night Mondays! Free and open to all (21+)\, sign ups begin for 5 minutes on the mic starting at 6:30pm\, with the show starting at 7pm. Hilarious up and coming comics will make you laugh your suds off as you enjoy discounted beers during the event.
URL:https://www.boomtownbrew.com/event/monday-open-mic-night/2026-10-26/
LOCATION:Boomtown Brewery\, 700 Jackson St\, Los Angeles\, CA\, 90012\, United States
CATEGORIES:Weekly Events
ATTACH;FMTTYPE=image/jpeg:https://www.boomtownbrew.com/wp-content/uploads/2026/01/BTB_OpenMicBanner_1.jpg
END:VEVENT
BEGIN:VEVENT
DTSTART;TZID=America/Los_Angeles:20261102T183000
DTEND;TZID=America/Los_Angeles:20261102T210000
DTSTAMP:20260420T012643
CREATED:20260114T185158Z
LAST-MODIFIED:20260114T185158Z
UID:25562-1793644200-1793653200@www.boomtownbrew.com
SUMMARY:Monday Open Mic Night
DESCRIPTION:BoomMic Comedy hosts our weekly Open Mic Night Mondays! Free and open to all (21+)\, sign ups begin for 5 minutes on the mic starting at 6:30pm\, with the show starting at 7pm. Hilarious up and coming comics will make you laugh your suds off as you enjoy discounted beers during the event.
URL:https://www.boomtownbrew.com/event/monday-open-mic-night/2026-11-02/
LOCATION:Boomtown Brewery\, 700 Jackson St\, Los Angeles\, CA\, 90012\, United States
CATEGORIES:Weekly Events
ATTACH;FMTTYPE=image/jpeg:https://www.boomtownbrew.com/wp-content/uploads/2026/01/BTB_OpenMicBanner_1.jpg
END:VEVENT
BEGIN:VEVENT
DTSTART;TZID=America/Los_Angeles:20261109T183000
DTEND;TZID=America/Los_Angeles:20261109T210000
DTSTAMP:20260420T012643
CREATED:20260114T185158Z
LAST-MODIFIED:20260114T185158Z
UID:25563-1794249000-1794258000@www.boomtownbrew.com
SUMMARY:Monday Open Mic Night
DESCRIPTION:BoomMic Comedy hosts our weekly Open Mic Night Mondays! Free and open to all (21+)\, sign ups begin for 5 minutes on the mic starting at 6:30pm\, with the show starting at 7pm. Hilarious up and coming comics will make you laugh your suds off as you enjoy discounted beers during the event.
URL:https://www.boomtownbrew.com/event/monday-open-mic-night/2026-11-09/
LOCATION:Boomtown Brewery\, 700 Jackson St\, Los Angeles\, CA\, 90012\, United States
CATEGORIES:Weekly Events
ATTACH;FMTTYPE=image/jpeg:https://www.boomtownbrew.com/wp-content/uploads/2026/01/BTB_OpenMicBanner_1.jpg
END:VEVENT
END:VCALENDAR